BEGIN:VCALENDAR
VERSION:2.0
PRODID:-//ACOS//NONSGML CMS 17.10.4694//EN
BEGIN:VEVENT
UID:f31369b8-9d7c-304c-72a1-d6bba0d2a40c
SUMMARY:Andakt på Skjåkheimen
DTSTART:20260428T093000Z
DTEND:20260428T103000Z
SEQUENCE:0
CREATED:20260408T071529Z
DTSTAMP:20260423T133341Z
END:VEVENT
END:VCALENDAR
